BEGIN:VCALENDAR
VERSION:2.0
PRODID:-//Pennsylvania NewsMedia Association - ECPv6.15.20//NONSGML v1.0//EN
CALSCALE:GREGORIAN
METHOD:PUBLISH
X-ORIGINAL-URL:https://panewsmedia.org
X-WR-CALDESC:Events for Pennsylvania NewsMedia Association
REFRESH-INTERVAL;VALUE=DURATION:PT1H
X-Robots-Tag:noindex
X-PUBLISHED-TTL:PT1H
BEGIN:VTIMEZONE
TZID:America/New_York
BEGIN:DAYLIGHT
TZOFFSETFROM:-0500
TZOFFSETTO:-0400
TZNAME:EDT
DTSTART:20240310T070000
END:DAYLIGHT
BEGIN:STANDARD
TZOFFSETFROM:-0400
TZOFFSETTO:-0500
TZNAME:EST
DTSTART:20241103T060000
END:STANDARD
BEGIN:DAYLIGHT
TZOFFSETFROM:-0500
TZOFFSETTO:-0400
TZNAME:EDT
DTSTART:20250309T070000
END:DAYLIGHT
BEGIN:STANDARD
TZOFFSETFROM:-0400
TZOFFSETTO:-0500
TZNAME:EST
DTSTART:20251102T060000
END:STANDARD
BEGIN:DAYLIGHT
TZOFFSETFROM:-0500
TZOFFSETTO:-0400
TZNAME:EDT
DTSTART:20260308T070000
END:DAYLIGHT
BEGIN:STANDARD
TZOFFSETFROM:-0400
TZOFFSETTO:-0500
TZNAME:EST
DTSTART:20261101T060000
END:STANDARD
END:VTIMEZONE
BEGIN:VEVENT
DTSTART;TZID=America/New_York:20251110T120000
DTEND;TZID=America/New_York:20251110T130000
DTSTAMP:20260424T051251
CREATED:20250307T021054Z
LAST-MODIFIED:20251024T150119Z
UID:25332-1762776000-1762779600@panewsmedia.org
SUMMARY:JTCP#8 - First Amendment\, Court Access and Legal Updates – Navigating Press Rights in the Current Legal Landscape
DESCRIPTION:This is session #8 of 12 of the PNA Foundation Journalism Training Certification Program.  Learn more about the certification program and save money by registering for more of the twelve sessions – or all twelve sessions – by clicking here. \nThis session will provide critical insights into how legal and policy shifts are influencing transparency and press rights in Pennsylvania’s court system. We will explore the intersection of First Amendment rights and court access in Pennsylvania\, focusing on how current policy changes and legal issues under the new administration are shaping press freedoms. You will also learn about the Unified Judicial System\, public access policy\, the new Clean Slate law\, and how these developments impact your ability to access court records and proceedings. \nModerators: \nMelissa Bevan Melewsky\, media law counsel\, Pennsylvania News Media Association \nPaula Knudsen Burke\, senior supervising attorney\, Reporters Committee for Freedom of the Press \nInvited panelists: \nKaitlin Gurney\, partner\, Ballard Spahr LLP\, Philadelphia \nHeather Murray\, associate director\, Cornell Law School First Amendment Clinic \nSara Rose\, deputy legal director\, ACLU of Pennsylvania \n  \nJoin us virtually at 12 noon on Monday\, Nov. 10.  A Zoom link will be sent to all registrants a day or two prior to the session. \nRegister Now!
URL:https://panewsmedia.org/event/jtcp8-first-amendment-court-access/
LOCATION:Virtual
CATEGORIES:Foundation Events,Training
END:VEVENT
BEGIN:VEVENT
DTSTART;TZID=America/New_York:20251117T120000
DTEND;TZID=America/New_York:20251117T130000
DTSTAMP:20260424T051251
CREATED:20250916T140155Z
LAST-MODIFIED:20251020T134640Z
UID:27086-1763380800-1763384400@panewsmedia.org
SUMMARY:Belonging & Beyond - Part II
DESCRIPTION:Join us for a complimentary two-part virtual training series\, Belonging & Beyond. The objective of this training is to help individuals improve a sense of belonging in their workplace.  The dates of these can’t miss virtual sessions are: \n\nMonday\, Oct. 20 (noon to 1 p.m.) and\nMonday\, Nov. 17 (noon to 1 p.m.)\n\nBelonging & Beyond is an original program created & delivered by Una Martone\, President & CEO of Leadership Harrisburg Area and Joseph Robinson\, Jr.\, Board President\, Martin Luther King\, Jr. Leadership Development Institute. \nBelonging & Beyond will be delivered in two 1-hour sessions focusing on Defining the Characteristics of High Performing Teams; Exploring Cultural Belonging & the Barriers to Achieving It; Understanding Bias; and Implementing Cultural Change – from your seat in the organization. Belonging & Beyond provides a statistical foundation and solid research supporting the dynamic content. \nThe training is interactive and invites everyone’s input and participation. To engage open dialogue and participation\, these sessions will NOT be recorded.  \nA confirmation email with Zoom login details will be sent a few days prior to each session. \nRegister now!
URL:https://panewsmedia.org/event/belonging-beyond-2/
LOCATION:Virtual
CATEGORIES:Foundation Events,PNA Events,Training
END:VEVENT
BEGIN:VEVENT
DTSTART;TZID=America/New_York:20251125T110000
DTEND;TZID=America/New_York:20251125T120000
DTSTAMP:20260424T051251
CREATED:20251027T162204Z
LAST-MODIFIED:20251118T163815Z
UID:27501-1764068400-1764072000@panewsmedia.org
SUMMARY:Make It Free Partners Webinar
DESCRIPTION:Solve the most pervasive digital publishing problem​\nNow you can monetize the 90%+ consumers currently being turned away at your paywall. \nImmediate publisher benefits:\n\nMASSIVE new net revenue stream\, no cost outlay.\nDramatically increase ad insertion impressions.\nIncrease positive\, potential new subscriber engagement.\nWorks with your current paywall.\nIncrease your bottom-line net profits\, nothing taken away!\n\nHear more about this opportunity by joining us for this complimentary webinar on Tuesday\, Nov. 25 at 11 a.m. \nLearn more about Make It Free Partners. \nRegister Now!
URL:https://panewsmedia.org/event/make-it-free-partners-webinar/
LOCATION:Virtual
CATEGORIES:Industry,PNA Events
END:VEVENT
END:VCALENDAR