BEGIN:VCALENDAR
VERSION:2.0
PRODID:-//Pennsylvania NewsMedia Association - ECPv6.15.20//NONSGML v1.0//EN
CALSCALE:GREGORIAN
METHOD:PUBLISH
X-WR-CALNAME:Pennsylvania NewsMedia Association
X-ORIGINAL-URL:https://panewsmedia.org
X-WR-CALDESC:Events for Pennsylvania NewsMedia Association
REFRESH-INTERVAL;VALUE=DURATION:PT1H
X-Robots-Tag:noindex
X-PUBLISHED-TTL:PT1H
BEGIN:VTIMEZONE
TZID:America/New_York
BEGIN:DAYLIGHT
TZOFFSETFROM:-0500
TZOFFSETTO:-0400
TZNAME:EDT
DTSTART:20250309T070000
END:DAYLIGHT
BEGIN:STANDARD
TZOFFSETFROM:-0400
TZOFFSETTO:-0500
TZNAME:EST
DTSTART:20251102T060000
END:STANDARD
BEGIN:DAYLIGHT
TZOFFSETFROM:-0500
TZOFFSETTO:-0400
TZNAME:EDT
DTSTART:20260308T070000
END:DAYLIGHT
BEGIN:STANDARD
TZOFFSETFROM:-0400
TZOFFSETTO:-0500
TZNAME:EST
DTSTART:20261101T060000
END:STANDARD
BEGIN:DAYLIGHT
TZOFFSETFROM:-0500
TZOFFSETTO:-0400
TZNAME:EDT
DTSTART:20270314T070000
END:DAYLIGHT
BEGIN:STANDARD
TZOFFSETFROM:-0400
TZOFFSETTO:-0500
TZNAME:EST
DTSTART:20271107T060000
END:STANDARD
END:VTIMEZONE
BEGIN:VEVENT
DTSTART;TZID=America/New_York:20260423T110000
DTEND;TZID=America/New_York:20260423T120000
DTSTAMP:20260420T083808
CREATED:20260309T180046Z
LAST-MODIFIED:20260316T131809Z
UID:28562-1776942000-1776945600@panewsmedia.org
SUMMARY:The Center Square Newswire Service Webinar
DESCRIPTION:Add free daily newswire content to your publication\nPNA members are invited to attend a webinar on Thursday\, April 23\, at 11:00 a.m.\, to learn about the free newswire service from The Center Square. Learn how to expand your state-level and national coverage with free content from a news organization that the Ad Fontes Media Bias Chart positions in the center of the political spectrum and in the reliable reporting tier. \nDuring this session\, you will receive an overview of the organization’s nonpartisan reporting\, including daily statehouse coverage from veteran Pennsylvania reporter Ford Turner and others\, national news\, enterprise and investigative stories\, and economic and policy reporting. The Center Square provides 1 to 3 state-level stories and 6 to 10 national news articles for republication each weekday\, along with ready-to-embed digital video\, all available to PNA members with no fees\, contracts\, or minimum usage requirements. Attend this brief informational webinar to see if The Center Square can help you fill coverage needs your readers and website visitors expect. \nRegister today to learn how your newsroom can begin using this free content. \n\n\n                \n                        \n                            The Center Square Webinar\n                             \n                        \n                        LinkedInThis field is for validation purposes and should be left unchanged.Name*\n                            \n                            \n                                                    \n                                                    First\n                                                \n                            \n                            \n                                                    \n                                                    Last\n                                                \n                            \n                        Title*Organization*Email*\n                            \n                        Address*    \n                    \n                         \n                                        \n                                        Street Address\n                                    \n                                        \n                                        Address Line 2\n                                    \n                                    \n                                    City\n                                 \n                                        \n                                        State / Province / Region\n                                      \n                                    \n                                    ZIP / Postal Code\n                                \n                    \n                Phone\n         Submit
URL:https://panewsmedia.org/event/the-center-square-newswire-service/
LOCATION:Virtual
CATEGORIES:Industry,PNA Events,Training
END:VEVENT
END:VCALENDAR